BEGIN:VCALENDAR
VERSION:2.0
PRODID:-//KG &quot;Gemütlichkeit&quot; 1902 Kettig e.V. - ECPv6.10.2//NONSGML v1.0//EN
CALSCALE:GREGORIAN
METHOD:PUBLISH
X-WR-CALNAME:KG &quot;Gemütlichkeit&quot; 1902 Kettig e.V.
X-ORIGINAL-URL:https://karnevalinkettig.com
X-WR-CALDESC:Veranstaltungen für KG &quot;Gemütlichkeit&quot; 1902 Kettig e.V.
REFRESH-INTERVAL;VALUE=DURATION:PT1H
X-Robots-Tag:noindex
X-PUBLISHED-TTL:PT1H
BEGIN:VTIMEZONE
TZID:Europe/Paris
BEGIN:DAYLIGHT
TZOFFSETFROM:+0100
TZOFFSETTO:+0200
TZNAME:CEST
DTSTART:20260329T010000
END:DAYLIGHT
BEGIN:STANDARD
TZOFFSETFROM:+0200
TZOFFSETTO:+0100
TZNAME:CET
DTSTART:20261025T010000
END:STANDARD
END:VTIMEZONE
BEGIN:VEVENT
DTSTART;TZID=Europe/Paris:20260216T091100
DTEND;TZID=Europe/Paris:20260216T223000
DTSTAMP:20260419T190902
CREATED:20260104T164043Z
LAST-MODIFIED:20260130T140758Z
UID:10000027-1771233060-1771281000@karnevalinkettig.com
SUMMARY:Katerfrühstück (Rosenmontag)
DESCRIPTION:mit anschließender Verabschiedung des Kinderhofstaates und Karnevalsabschluss mit Live-Musik von „Altneubau“
URL:https://karnevalinkettig.com/termine/katerfruehstueck-rosenmontag/
LOCATION:Bürgerhaus Kettig\, Haupstraße 2\, Kettig\, 56220
ATTACH;FMTTYPE=image/jpeg:https://karnevalinkettig.com/wp-content/uploads/2026/01/WhatsApp-Image-2026-01-05-at-12.44.49-1.jpeg
END:VEVENT
END:VCALENDAR