BEGIN:VCALENDAR
VERSION:2.0
PRODID:-//KG &quot;Gemütlichkeit&quot; 1902 Kettig e.V. - ECPv6.10.2//NONSGML v1.0//EN
CALSCALE:GREGORIAN
METHOD:PUBLISH
X-ORIGINAL-URL:https://karnevalinkettig.com
X-WR-CALDESC:Veranstaltungen für KG &quot;Gemütlichkeit&quot; 1902 Kettig e.V.
REFRESH-INTERVAL;VALUE=DURATION:PT1H
X-Robots-Tag:noindex
X-PUBLISHED-TTL:PT1H
BEGIN:VTIMEZONE
TZID:Europe/Paris
BEGIN:DAYLIGHT
TZOFFSETFROM:+0100
TZOFFSETTO:+0200
TZNAME:CEST
DTSTART:20260329T010000
END:DAYLIGHT
BEGIN:STANDARD
TZOFFSETFROM:+0200
TZOFFSETTO:+0100
TZNAME:CET
DTSTART:20261025T010000
END:STANDARD
END:VTIMEZONE
BEGIN:VEVENT
DTSTART;TZID=Europe/Paris:20260430T181100
DTEND;TZID=Europe/Paris:20260430T233000
DTSTAMP:20260423T105209
CREATED:20260104T164249Z
LAST-MODIFIED:20260422T100656Z
UID:10000028-1777572660-1777591800@karnevalinkettig.com
SUMMARY:Blütenfest
DESCRIPTION:  \nDie Karnevalsgesellschaft „Gemütlichkeit“ 1902 Kettig e.V.  lädt am 30.04.2026 ab 18:11 Uhr zum Blütenfest in Kettig an die Schützenhalle ein. \nFreuen Sie sich auf eine angenehme Atmosphäre mit einem guten Glas Wein oder einem kalten Bier mit entspannten Gesprächen und handgemachter Musik. \nStatt auf närrischen Trubel\, für den die Karnevalsgesellschaft ansonsten berühmt ist\, gehen wir es beim Blütenfest etwas ruhiger an. \nBesonders freuen wir uns auf die feierliche Inthronisierung der neuen Blütenkönigin. \nDiese wird durch den Bürgermeister der Verbandsgemeinde Weißenthurm\, Thomas Przybylla sowie durch Ortsbürgermeister Florian Heyden vorgenommen. \nErleben Sie diesen besonderen Moment gemeinsam mit uns in festlicher Atmosphäre. Unser Fest soll eine schöne Gelegenheit bieten\, sich auszutauschen und ins Gespräch zu kommen – ganz ungezwungen und in gemütlicher Runde. \nNeben den musikalischen Leckerbissen bieten wir auch vielerlei Leckereien vom Imbiss an. \nKommen Sie vorbei und genießen Sie einen besonderen Abend in netter Gesellschaft. \nWir freuen uns auf Sie!
URL:https://karnevalinkettig.com/termine/bluetenfest/
LOCATION:Schützenhalle Kettig
ATTACH;FMTTYPE=image/jpeg:https://karnevalinkettig.com/wp-content/uploads/2026/04/Plakat-Bluetenfest-2026-2.jpg
END:VEVENT
END:VCALENDAR